Workbook

Sheet Legende
A1: Kürzel | B1: Bedeutung | C1: Stunden
A2: F | B2: Frühdienst | C2: 7.7
A3: S | B3: Spätdienst | C3: 7.7
A4: N | B4: Nachtdienst | C4: 8
A5: ZD | B5: Zwischendienst | C5: 7.7
A6: T | B6: Tagdienst | C6: 7.7
A7: BD | B7: Bereitschaftsdienst | C7: 8
A8: X | B8: Dienstfrei | C8: 0
A9: U | B9: Urlaub | C9: 0
A10: K | B10: Arbeitsunfähig | C10: 0
A11: KK | B11: Kind krank | C11: 0
A12: FB | B12: Fortbildung | C12: 0
A13: ZA | B13: Zeitausgleich | C13: 0
B15: Die Stundenwerte oben sind Beispielwerte. Tragen Sie hier die Zeiten Ihres Hauses ein —
B16: der Dienstplan rechnet damit automatisch weiter.
B18: Diese Kürzel sind nicht genormt. Verbindlich ist immer die Legende Ihres Hauses.
B19: Erklärung aller gebräuchlichen Kürzel: nurvo.de/ratgeber/dienstplan-abkuerzungen

Sheet Dienstplan
A1: Dienstplan
A2: Station / Wohnbereich: | E2: Monat / Jahr:
A3: Mitarbeiterin / Mitarbeiter | B3: Qualifikation | C3: 1 | D3: 2 | E3: 3 | F3: 4 | G3: 5 | H3: 6 | I3: 7 | J3: 8 | K3: 9 | L3: 10 | M3: 11 | N3: 12 | O3: 13 | P3: 14 | Q3: 15 | R3: 16 | S3: 17 | T3: 18 | U3: 19 | V3: 20 | W3: 21 | X3: 22 | Y3: 23 | Z3: 24 | AA3: 25 | AB3: 26 | AC3: 27 | AD3: 28 | AE3: 29 | AF3: 30 | AG3: 31 | AH3: Ist-Stunden | AI3: Soll-Stunden | AJ3: Differenz
AH4: =SUMPRODUCT(COUNTIF(C4:AG4,Legende!$A$2:$A$7),Legende!$C$2:$C$7) | AJ4: =IF(AH4="",0,AH4)-IF(AI4="",0,AI4)
AH5: =SUMPRODUCT(COUNTIF(C5:AG5,Legende!$A$2:$A$7),Legende!$C$2:$C$7) | AJ5: =IF(AH5="",0,AH5)-IF(AI5="",0,AI5)
AH6: =SUMPRODUCT(COUNTIF(C6:AG6,Legende!$A$2:$A$7),Legende!$C$2:$C$7) | AJ6: =IF(AH6="",0,AH6)-IF(AI6="",0,AI6)
AH7: =SUMPRODUCT(COUNTIF(C7:AG7,Legende!$A$2:$A$7),Legende!$C$2:$C$7) | AJ7: =IF(AH7="",0,AH7)-IF(AI7="",0,AI7)
AH8: =SUMPRODUCT(COUNTIF(C8:AG8,Legende!$A$2:$A$7),Legende!$C$2:$C$7) | AJ8: =IF(AH8="",0,AH8)-IF(AI8="",0,AI8)
AH9: =SUMPRODUCT(COUNTIF(C9:AG9,Legende!$A$2:$A$7),Legende!$C$2:$C$7) | AJ9: =IF(AH9="",0,AH9)-IF(AI9="",0,AI9)
AH10: =SUMPRODUCT(COUNTIF(C10:AG10,Legende!$A$2:$A$7),Legende!$C$2:$C$7) | AJ10: =IF(AH10="",0,AH10)-IF(AI10="",0,AI10)
AH11: =SUMPRODUCT(COUNTIF(C11:AG11,Legende!$A$2:$A$7),Legende!$C$2:$C$7) | AJ11: =IF(AH11="",0,AH11)-IF(AI11="",0,AI11)
AH12: =SUMPRODUCT(COUNTIF(C12:AG12,Legende!$A$2:$A$7),Legende!$C$2:$C$7) | AJ12: =IF(AH12="",0,AH12)-IF(AI12="",0,AI12)
AH13: =SUMPRODUCT(COUNTIF(C13:AG13,Legende!$A$2:$A$7),Legende!$C$2:$C$7) | AJ13: =IF(AH13="",0,AH13)-IF(AI13="",0,AI13)
AH14: =SUMPRODUCT(COUNTIF(C14:AG14,Legende!$A$2:$A$7),Legende!$C$2:$C$7) | AJ14: =IF(AH14="",0,AH14)-IF(AI14="",0,AI14)
AH15: =SUMPRODUCT(COUNTIF(C15:AG15,Legende!$A$2:$A$7),Legende!$C$2:$C$7) | AJ15: =IF(AH15="",0,AH15)-IF(AI15="",0,AI15)
... AH28: =SUMPRODUCT(COUNTIF(C28:AG28,Legende!$A$2:$A$7),Legende!$C$2:$C$7) | AJ28: =IF(AH28="",0,AH28)-IF(AI28="",0,AI28)
A30: Besetzung je Tag
A31: F — Frühdienst | C31: =COUNTIF(C4:C28,"F") | D31: =COUNTIF(D4:D28,"F") | E31: =COUNTIF(E4:E28,"F") | F31: =COUNTIF(F4:F28,"F") | G31: =COUNTIF(G4:G28,"F") | H31: =COUNTIF(H4:H28,"F") | I31: =COUNTIF(I4:I28,"F") | J31: =COUNTIF(J4:J28,"F") | ... AG31: =COUNTIF(AG4:AG28,"F")
A32: S — Spätdienst | C32: =COUNTIF(C4:C28,"S") | D32: =COUNTIF(D4:D28,"S") | E32: =COUNTIF(E4:E28,"S") | F32: =COUNTIF(F4:F28,"S") | G32: =COUNTIF(G4:G28,"S") | H32: =COUNTIF(H4:H28,"S") | I32: =COUNTIF(I4:I28,"S") | J32: =COUNTIF(J4:J28,"S") | ... AG32: =COUNTIF(AG4:AG28,"S")
A33: N — Nachtdienst | C33: =COUNTIF(C4:C28,"N") | D33: =COUNTIF(D4:D28,"N") | E33: =COUNTIF(E4:E28,"N") | F33: =COUNTIF(F4:F28,"N") | G33: =COUNTIF(G4:G28,"N") | H33: =COUNTIF(H4:H28,"N") | I33: =COUNTIF(I4:I28,"N") | J33: =COUNTIF(J4:J28,"N") | ... AG33: =COUNTIF(AG4:AG28,"N")
A34: ZD — Zwischendienst | C34: =COUNTIF(C4:C28,"ZD") | D34: =COUNTIF(D4:D28,"ZD") | E34: =COUNTIF(E4:E28,"ZD") | F34: =COUNTIF(F4:F28,"ZD") | G34: =COUNTIF(G4:G28,"ZD") | H34: =COUNTIF(H4:H28,"ZD") | I34: =COUNTIF(I4:I28,"ZD") | J34: =COUNTIF(J4:J28,"ZD") | ... AG34: =COUNTIF(AG4:AG28,"ZD")
A35: T — Tagdienst | C35: =COUNTIF(C4:C28,"T") | D35: =COUNTIF(D4:D28,"T") | E35: =COUNTIF(E4:E28,"T") | F35: =COUNTIF(F4:F28,"T") | G35: =COUNTIF(G4:G28,"T") | H35: =COUNTIF(H4:H28,"T") | I35: =COUNTIF(I4:I28,"T") | J35: =COUNTIF(J4:J28,"T") | ... AG35: =COUNTIF(AG4:AG28,"T")
A36: BD — Bereitschaftsdienst | C36: =COUNTIF(C4:C28,"BD") | D36: =COUNTIF(D4:D28,"BD") | E36: =COUNTIF(E4:E28,"BD") | F36: =COUNTIF(F4:F28,"BD") | G36: =COUNTIF(G4:G28,"BD") | H36: =COUNTIF(H4:H28,"BD") | I36: =COUNTIF(I4:I28,"BD") | J36: =COUNTIF(J4:J28,"BD") | ... AG36: =COUNTIF(AG4:AG28,"BD")
A37: davon Fachkräfte (Qualifikation = FK) | C37: =SUMPRODUCT(($B$4:$B$28="FK")*(C$4:C$28<>"")*(C$4:C$28<>"X")*(C$4:C$28<>"U")*(C$4:C$28<>"K")) | D37: =SUMPRODUCT(($B$4:$B$28="FK")*(D$4:D$28<>"")*(D$4:D$28<>"X")*(D$4:D$28<>"U")*(D$4:D$28<>"K")) | E37: =SUMPRODUCT(($B$4:$B$28="FK")*(E$4:E$28<>"")*(E$4:E$28<>"X")*(E$4:E$28<>"U")*(E$4:E$28<>"K")) | F37: =SUMPRODUCT(($B$4:$B$28="FK")*(F$4:F$28<>"")*(F$4:F$28<>"X")*(F$4:F$28<>"U")*(F$4:F$28<>"K")) | G37: =SUMPRODUCT(($B$4:$B$28="FK")*(G$4:G$28<>"")*(G$4:G$28<>"X")*(G$4:G$28<>"U")*(G$4:G$28<>"K")) | H37: =SUMPRODUCT(($B$4:$B$28="FK")*(H$4:H$28<>"")*(H$4:H$28<>"X")*(H$4:H$28<>"U")*(H$4:H$28<>"K")) | I37: =SUMPRODUCT(($B$4:$B$28="FK")*(I$4:I$28<>"")*(I$4:I$28<>"X")*(I$4:I$28<>"U")*(I$4:I$28<>"K")) | J37: =SUMPRODUCT(($B$4:$B$28="FK")*(J$4:J$28<>"")*(J$4:J$28<>"X")*(J$4:J$28<>"U")*(J$4:J$28<>"K")) | ... AG37: =SUMPRODUCT(($B$4:$B$28="FK")*(AG$4:AG$28<>"")*(AG$4:AG$28<>"X")*(AG$4:AG$28<>"U")*(AG$4:AG$28<>"K"))
A39: Hinweis: Diese Vorlage rechnet Stunden und Besetzung. Sie prüft KEINE Ruhezeiten, keine Höchstarbeitszeit und keine Fachkraftquote.
A40: Warum eine Tabelle das nicht zuverlässig kann: nurvo.de/vergleich/dienstplan-excel-ersetzen
